BEGIN:VCALENDAR
PRODID:-//eluceo/ical//2.0/EN
VERSION:2.0
CALSCALE:GREGORIAN
BEGIN:VEVENT
UID:9c17c096f97d3508a782f749ec940bbe
DTSTAMP:20260420T082955Z
SUMMARY:Invitation : Soirée-conférence Espoir en tête
DESCRIPTION:
URL:https://metroclubluxembourg.polaris.rotarybelux.org/fr/agenda/show/9556
 3
DTSTART;TZID=Europe/Zurich:20260310T180000
DTEND;TZID=Europe/Zurich:20260310T200000
LOCATION:Chambre de Commerce\, Luxembourg-Kirchberg
CATEGORIES:Rotary
END:VEVENT
BEGIN:VTIMEZONE
TZID:Europe/Zurich
BEGIN:STANDARD
DTSTART:20260310T180000
TZNAME:CET
TZOFFSETTO:+0100
TZOFFSETFROM:+0100
END:STANDARD
END:VTIMEZONE
END:VCALENDAR
